BEGIN:VCALENDAR
VERSION:2.0
PRODID:-//Marion County Master Gardener Association - ECPv6.15.20//NONSGML v1.0//EN
CALSCALE:GREGORIAN
METHOD:PUBLISH
X-WR-CALNAME:Marion County Master Gardener Association
X-ORIGINAL-URL:https://indymcmga.org
X-WR-CALDESC:Events for Marion County Master Gardener Association
REFRESH-INTERVAL;VALUE=DURATION:PT1H
X-Robots-Tag:noindex
X-PUBLISHED-TTL:PT1H
BEGIN:VTIMEZONE
TZID:America/Indiana/Indianapolis
BEGIN:DAYLIGHT
TZOFFSETFROM:-0500
TZOFFSETTO:-0400
TZNAME:EDT
DTSTART:20240310T070000
END:DAYLIGHT
BEGIN:STANDARD
TZOFFSETFROM:-0400
TZOFFSETTO:-0500
TZNAME:EST
DTSTART:20241103T060000
END:STANDARD
BEGIN:DAYLIGHT
TZOFFSETFROM:-0500
TZOFFSETTO:-0400
TZNAME:EDT
DTSTART:20250309T070000
END:DAYLIGHT
BEGIN:STANDARD
TZOFFSETFROM:-0400
TZOFFSETTO:-0500
TZNAME:EST
DTSTART:20251102T060000
END:STANDARD
BEGIN:DAYLIGHT
TZOFFSETFROM:-0500
TZOFFSETTO:-0400
TZNAME:EDT
DTSTART:20260308T070000
END:DAYLIGHT
BEGIN:STANDARD
TZOFFSETFROM:-0400
TZOFFSETTO:-0500
TZNAME:EST
DTSTART:20261101T060000
END:STANDARD
END:VTIMEZONE
BEGIN:VEVENT
DTSTART;TZID=America/Indiana/Indianapolis:20250410T183000
DTEND;TZID=America/Indiana/Indianapolis:20250410T203000
DTSTAMP:20260424T035914
CREATED:20241105T214526Z
LAST-MODIFIED:20241105T215431Z
UID:19720-1744309800-1744317000@indymcmga.org
SUMMARY:MCMGA Monthly Membership Meeting - Evening Meeting
DESCRIPTION:Tweet
URL:https://indymcmga.org/event/mcmga-monthly-membership-meeting-evening-meeting-2/
LOCATION:Northminster Presbyterian Church\, 1660 Kessler Blvd E. Dr.\, Indianapolis\, IN\, United States
CATEGORIES:Calendar
END:VEVENT
BEGIN:VEVENT
DTSTART;TZID=America/Indiana/Indianapolis:20250407T130000
DTEND;TZID=America/Indiana/Indianapolis:20250407T150000
DTSTAMP:20260424T035914
CREATED:20241105T220000Z
LAST-MODIFIED:20250121T132453Z
UID:19744-1744030800-1744038000@indymcmga.org
SUMMARY:MCMGA Board Meeting
DESCRIPTION:Tweet
URL:https://indymcmga.org/event/mcmga-board-meeting-5/
LOCATION:Purdue Extension-Marion County Classroom (2nd floor)\, Discovery Hall\, Indiana State Fairgrounds
CATEGORIES:MG Board Calendar
END:VEVENT
BEGIN:VEVENT
DTSTART;TZID=America/Indiana/Indianapolis:20250310T091500
DTEND;TZID=America/Indiana/Indianapolis:20250310T113000
DTSTAMP:20260424T035914
CREATED:20241105T214431Z
LAST-MODIFIED:20241105T214431Z
UID:19718-1741598100-1741606200@indymcmga.org
SUMMARY:MCMGA Monthly Membership Meeting
DESCRIPTION:Tweet
URL:https://indymcmga.org/event/mcmga-monthly-membership-meeting-8/
LOCATION:Northminster Presbyterian Church\, 1660 Kessler Blvd E. Dr.\, Indianapolis\, IN\, United States
CATEGORIES:Calendar
END:VEVENT
BEGIN:VEVENT
DTSTART;TZID=America/Indiana/Indianapolis:20250303T130000
DTEND;TZID=America/Indiana/Indianapolis:20250303T150000
DTSTAMP:20260424T035914
CREATED:20241105T215907Z
LAST-MODIFIED:20250121T132509Z
UID:19742-1741006800-1741014000@indymcmga.org
SUMMARY:MCMGA Board Meeting
DESCRIPTION:Tweet
URL:https://indymcmga.org/event/mcmga-board-meeting-3/
LOCATION:Purdue Extension-Marion County Classroom (2nd floor)\, Discovery Hall\, Indiana State Fairgrounds
CATEGORIES:MG Board Calendar
END:VEVENT
BEGIN:VEVENT
DTSTART;TZID=America/Indiana/Indianapolis:20250210T091500
DTEND;TZID=America/Indiana/Indianapolis:20250210T113000
DTSTAMP:20260424T035914
CREATED:20241105T214344Z
LAST-MODIFIED:20241105T214344Z
UID:19716-1739178900-1739187000@indymcmga.org
SUMMARY:MCMGA Monthly Membership Meeting
DESCRIPTION:Tweet
URL:https://indymcmga.org/event/mcmga-monthly-membership-meeting-2/
LOCATION:Northminster Presbyterian Church\, 1660 Kessler Blvd E. Dr.\, Indianapolis\, IN\, United States
CATEGORIES:Calendar
END:VEVENT
BEGIN:VEVENT
DTSTART;TZID=America/Indiana/Indianapolis:20250203T130000
DTEND;TZID=America/Indiana/Indianapolis:20250203T150000
DTSTAMP:20260424T035914
CREATED:20241105T215824Z
LAST-MODIFIED:20250121T132535Z
UID:19740-1738587600-1738594800@indymcmga.org
SUMMARY:MCMGA Board Meeting
DESCRIPTION:Tweet
URL:https://indymcmga.org/event/mcmga-board-meeting-2/
LOCATION:Purdue Extension-Marion County Classroom (2nd floor)\, Discovery Hall\, Indiana State Fairgrounds
CATEGORIES:MG Board Calendar
END:VEVENT
BEGIN:VEVENT
DTSTART;TZID=America/Indiana/Indianapolis:20250113T091500
DTEND;TZID=America/Indiana/Indianapolis:20250113T113000
DTSTAMP:20260424T035914
CREATED:20241105T214245Z
LAST-MODIFIED:20241105T214245Z
UID:19714-1736759700-1736767800@indymcmga.org
SUMMARY:MCMGA Monthly Membership Meeting
DESCRIPTION:Tweet
URL:https://indymcmga.org/event/mcmga-monthly-membership-meeting/
LOCATION:Northminster Presbyterian Church\, 1660 Kessler Blvd E. Dr.\, Indianapolis\, IN\, United States
CATEGORIES:Calendar
END:VEVENT
BEGIN:VEVENT
DTSTART;TZID=America/Indiana/Indianapolis:20250106T130000
DTEND;TZID=America/Indiana/Indianapolis:20250106T150000
DTSTAMP:20260424T035914
CREATED:20241105T215745Z
LAST-MODIFIED:20250105T212103Z
UID:19738-1736168400-1736175600@indymcmga.org
SUMMARY:MCMGA Board Meeting
DESCRIPTION:Tweet
URL:https://indymcmga.org/event/mcmga-board-meeting/
LOCATION:Virtual – Zoom
CATEGORIES:MG Board Calendar
END:VEVENT
END:VCALENDAR