BEGIN:VCALENDAR
VERSION:2.0
PRODID:-//Marion County Master Gardener Association - ECPv6.15.20//NONSGML v1.0//EN
CALSCALE:GREGORIAN
METHOD:PUBLISH
X-ORIGINAL-URL:https://indymcmga.org
X-WR-CALDESC:Events for Marion County Master Gardener Association
REFRESH-INTERVAL;VALUE=DURATION:PT1H
X-Robots-Tag:noindex
X-PUBLISHED-TTL:PT1H
BEGIN:VTIMEZONE
TZID:America/Indiana/Indianapolis
BEGIN:DAYLIGHT
TZOFFSETFROM:-0500
TZOFFSETTO:-0400
TZNAME:EDT
DTSTART:20250309T070000
END:DAYLIGHT
BEGIN:STANDARD
TZOFFSETFROM:-0400
TZOFFSETTO:-0500
TZNAME:EST
DTSTART:20251102T060000
END:STANDARD
BEGIN:DAYLIGHT
TZOFFSETFROM:-0500
TZOFFSETTO:-0400
TZNAME:EDT
DTSTART:20260308T070000
END:DAYLIGHT
BEGIN:STANDARD
TZOFFSETFROM:-0400
TZOFFSETTO:-0500
TZNAME:EST
DTSTART:20261101T060000
END:STANDARD
BEGIN:DAYLIGHT
TZOFFSETFROM:-0500
TZOFFSETTO:-0400
TZNAME:EDT
DTSTART:20270314T070000
END:DAYLIGHT
BEGIN:STANDARD
TZOFFSETFROM:-0400
TZOFFSETTO:-0500
TZNAME:EST
DTSTART:20271107T060000
END:STANDARD
END:VTIMEZONE
BEGIN:VEVENT
DTSTART;TZID=America/Indiana/Indianapolis:20260202T130000
DTEND;TZID=America/Indiana/Indianapolis:20260202T150000
DTSTAMP:20260423T192847
CREATED:20251106T163124Z
LAST-MODIFIED:20251106T163124Z
UID:20508-1770037200-1770044400@indymcmga.org
SUMMARY:MCMGA Board Meeting
DESCRIPTION:Tweet
URL:https://indymcmga.org/event/mcmga-board-meeting-7/
LOCATION:Purdue Extension-Marion County Classroom (2nd floor)\, Discovery Hall\, Indiana State Fairgrounds
CATEGORIES:Calendar,MG Board Calendar
END:VEVENT
BEGIN:VEVENT
DTSTART;TZID=America/Indiana/Indianapolis:20260209T091500
DTEND;TZID=America/Indiana/Indianapolis:20260209T113000
DTSTAMP:20260423T192847
CREATED:20251106T162610Z
LAST-MODIFIED:20251106T162610Z
UID:20501-1770628500-1770636600@indymcmga.org
SUMMARY:MCMGA Monthly Membership Meeting
DESCRIPTION:Tweet
URL:https://indymcmga.org/event/mcmga-monthly-membership-meeting-12/
LOCATION:Northminster Presbyterian Church\, 1660 Kessler Blvd E. Dr.\, Indianapolis\, IN\, United States
CATEGORIES:Calendar
END:VEVENT
END:VCALENDAR