BEGIN:VCALENDAR
VERSION:2.0
PRODID:-//Marion County Master Gardener Association - ECPv6.15.20//NONSGML v1.0//EN
CALSCALE:GREGORIAN
METHOD:PUBLISH
X-WR-CALNAME:Marion County Master Gardener Association
X-ORIGINAL-URL:https://indymcmga.org
X-WR-CALDESC:Events for Marion County Master Gardener Association
REFRESH-INTERVAL;VALUE=DURATION:PT1H
X-Robots-Tag:noindex
X-PUBLISHED-TTL:PT1H
BEGIN:VTIMEZONE
TZID:America/Indiana/Indianapolis
BEGIN:DAYLIGHT
TZOFFSETFROM:-0500
TZOFFSETTO:-0400
TZNAME:EDT
DTSTART:20240310T070000
END:DAYLIGHT
BEGIN:STANDARD
TZOFFSETFROM:-0400
TZOFFSETTO:-0500
TZNAME:EST
DTSTART:20241103T060000
END:STANDARD
BEGIN:DAYLIGHT
TZOFFSETFROM:-0500
TZOFFSETTO:-0400
TZNAME:EDT
DTSTART:20250309T070000
END:DAYLIGHT
BEGIN:STANDARD
TZOFFSETFROM:-0400
TZOFFSETTO:-0500
TZNAME:EST
DTSTART:20251102T060000
END:STANDARD
BEGIN:DAYLIGHT
TZOFFSETFROM:-0500
TZOFFSETTO:-0400
TZNAME:EDT
DTSTART:20260308T070000
END:DAYLIGHT
BEGIN:STANDARD
TZOFFSETFROM:-0400
TZOFFSETTO:-0500
TZNAME:EST
DTSTART:20261101T060000
END:STANDARD
END:VTIMEZONE
BEGIN:VEVENT
DTSTART;TZID=America/Indiana/Indianapolis:20250908T091500
DTEND;TZID=America/Indiana/Indianapolis:20250908T113000
DTSTAMP:20260424T032718
CREATED:20241105T215115Z
LAST-MODIFIED:20250905T122935Z
UID:19730-1757322900-1757331000@indymcmga.org
SUMMARY:MCMGA Monthly Membership Meeting
DESCRIPTION:Speaker: Dave Seastrom and Melody Lane Dunn from the Indiana Forest Alliance. \nOur forests matter. They provide natural habitats for living creatures as well as environmental\, ecological and social benefits to us. And so much more. Dave and Melody will talk to us about Indiana Forest Alliance’s critical work\, including the local “Forests for Indy” initiative and other statewide efforts to study and protect our vanishing wild places. \nFind out more about the organization and how you can get involved at their website: https://indianaforestalliance.org/work/get-involved. \n\n					Tweet
URL:https://indymcmga.org/event/mcmga-monthly-membership-meeting-10/
LOCATION:Northminster Presbyterian Church\, 1660 Kessler Blvd E. Dr.\, Indianapolis\, IN\, United States
CATEGORIES:Calendar
ATTACH;FMTTYPE=image/jpeg:https://indymcmga.org/wp-content/uploads/2025/09/Dave-Melody-scaled.jpg
END:VEVENT
END:VCALENDAR